BEGIN:VCALENDAR
VERSION:2.0
PRODID:-//hacksw/handcal//NONSGML v1.0//EN
CALSCALE:GREGORIAN
BEGIN:VEVENT
DTEND:20220211T010000Z
UID: 69e7d1155a5bb
DTSTAMP:20260421T143341Z
LOCATION:Olin Center for Educational Technology
DESCRIPTION:The annual Francophone Film Festival at Augustana will screen a film each Thursday from Feb. 10-March 10.\n\nFirst up is "Portrait of a Lady on Fire\," a 2019 romantic drama is set in France in the late 18th century. Young painter Marianne is commissioned to do the wedding portrait of Héloïse without her knowing. Therefore\, Marianne must observe her model by day to paint her portrait at night. Day by day\, the two women become closer as they share Héloïse's last moments of freedom before the impending wedding. (IMDB description)\n\nRated R\, 2 hours\n
URL;VALUE=URI:https://www.augustana.edu/about-us/events/2022/francophone-film-festival-portrait-lady-fire
SUMMARY:Francophone Film Festival: "Portrait of a Lady on Fire"
DTSTART:20220211T010000Z
END:VEVENT
END:VCALENDAR
