BEGIN:VCALENDAR
VERSION:2.0
PRODID:-//hacksw/handcal//NONSGML v1.0//EN
CALSCALE:GREGORIAN
BEGIN:VEVENT
DTEND:20220205T193000Z
UID: 69e7d11555a6c
DTSTAMP:20260421T143341Z
LOCATION:Denkmann Memorial Building
DESCRIPTION:Erin Freund\, assistant professor of music\, will perform in recital. She teaches harp and music appreciation at Augustana.\n\nShe holds doctor of music and master of music degrees\, as well as a performance certificate from Northwestern University. She completed her undergraduate studies at the Oberlin Conservatory of Music. She performs solo music\, chamber music and orchestral repertoire.\n\nPlease note that all audience members must be masked.\n\n&nbsp\;\n
URL;VALUE=URI:https://www.augustana.edu/about-us/events/2022/faculty-recital-erin-freund-harp
SUMMARY:Faculty recital: Erin Freund\, harp
DTSTART:20220205T193000Z
END:VEVENT
END:VCALENDAR
