BEGIN:VCALENDAR
VERSION:2.0
PRODID:-//hacksw/handcal//NONSGML v1.0//EN
CALSCALE:GREGORIAN
BEGIN:VEVENT
DTEND:20211225T130000Z
UID: 69e7cd3ba8b81
DTSTAMP:20260421T141715Z
LOCATION:Augustana Lutheran Church
DESCRIPTION:The 170th Julotta\, an early morning Christmas service\, will be held at at Augustana Lutheran Church in Andover\, Ill.\n\nThe service celebrates the Swedish heritage of the congregation. It begins in candlelight singing “Silent Night” and ends with the dawn of Christmas morning.\n\nThe church’s first pastor\, Lars Paul Esbjörn (1808-1870)\, was&nbsp\; the first president of Augustana College &amp\; Theological Seminary.\n
URL;VALUE=URI:https://www.augustana.edu/about-us/events/2021/julotta
SUMMARY:Julotta
DTSTART:20211225T130000Z
END:VEVENT
END:VCALENDAR
