BEGIN:VCALENDAR
VERSION:2.0
PRODID:-//hacksw/handcal//NONSGML v1.0//EN
CALSCALE:GREGORIAN
BEGIN:VEVENT
DTEND:20220118T003000Z
UID: 69e7d0955c07d
DTSTAMP:20260421T143133Z
LOCATION:
DESCRIPTION:Augustana College's annual Rev. Dr. Martin Luther King\, Jr.\, event will highlight and explain how college-in-prison programs are part of the "dream of the beloved community" through the inspiring voices of formerly incarcerated students.\n\nThe theme — "Redemption: Carrying on MLK’s Vision of the Beloved Community" — and the day's programs reflect Dr. King's call to bring people together\, bridge equity gaps and provide hope and opportunities for social change.&nbsp\;\n\nPanelists will include men featured in the PBS documentary "College Behind Bars\," and members of the Bard Prison Initiative and the Augustana Prison Education Program.\n\nThe Quad Cities community is invited to hear the Bard Prison Initiative panelists via Zoom.\n
URL;VALUE=URI:https://www.augustana.edu/about-us/events/2021/rev-dr-martin-luther-king-jr-celebration
SUMMARY:Rev. Dr. Martin Luther King\, Jr. celebration
DTSTART:20220118T003000Z
END:VEVENT
END:VCALENDAR
