BEGIN:VCALENDAR
VERSION:2.0
PRODID:-//hacksw/handcal//NONSGML v1.0//EN
CALSCALE:GREGORIAN
BEGIN:VEVENT
DTEND:20220501T180000Z
UID: 69e7cd418c9a1
DTSTAMP:20260421T141721Z
LOCATION:Softball Field
DESCRIPTION:Augustana's softball team will host Millikin University while celebrating Augie's softball seniors.\n
URL;VALUE=URI:https://www.augustana.edu/about-us/events/2021/softball-vs-millikin
SUMMARY:Softball vs. Millikin (doubleheader)
DTSTART:20220501T180000Z
END:VEVENT
END:VCALENDAR
