BEGIN:VCALENDAR
VERSION:2.0
PRODID:-//hacksw/handcal//NONSGML v1.0//EN
CALSCALE:GREGORIAN
BEGIN:VEVENT
DTEND:20211201T211500Z
UID: 69e7ccf447bbc
DTSTAMP:20260421T141604Z
LOCATION:Denkmann Memorial Building
DESCRIPTION:Five students will perform in recital: Colin Claytor\, tenor\;&nbsp\;Lainey Terfruchte and&nbsp\;Joyce Mantanguihan\, harp\; and&nbsp\;George Behnke and&nbsp\;Gavin Nicoson\, piano.\n\nProgram\n\nColin Claytor\, tenor: Anthem from "Chess\," by Benny Anderson\, Tim Rice and Bjorn Ulvaeus\n\nLainey Terfruchte\, harp: Sonata in C minor\, Op. 2\, by Sophia Giustina Dussek (1775-1847)\;&nbsp\;I. Allegro moderato\n\nGeorge Behnke\, piano: "The Easy Winners" by Scott Joplin (1868-1917)\n\nJoyce Mantanguihan\, harp: "Esquisse" by Henriette Renié (1875-1956)\n\nGavin Nicoson\, piano: "Sleigh Ride" by Leroy Anderson (1908-1975)\, arr. John Eidsvoog\n
URL;VALUE=URI:https://www.augustana.edu/about-us/events/2021/student-recital-dec1
SUMMARY:Student recital: voice\, harp and piano
DTSTART:20211201T211500Z
END:VEVENT
END:VCALENDAR
