BEGIN:VCALENDAR
VERSION:2.0
PRODID:-//hacksw/handcal//NONSGML v1.0//EN
CALSCALE:GREGORIAN
BEGIN:VEVENT
DTEND:20170204T220000Z
UID: 69e929468964d
DTSTAMP:20260422T150214Z
LOCATION:Centennial Hall
DESCRIPTION:The Winter Chorale Concert will include the Augustana Concert Choral and the&nbsp\;Jenny Lind Vocal Ensemble\, featuring the Webster Competition winners.\n\nProgram\n\nAugustana Concert Chorale\n\n"Praise the Lord from Judas Maccabeus" George Frideric Handel\, arr. Hal Hopson\n\n"Set me as a seal upon your heart" David Childs\nAlina Lundholm\, French horn\n\n"Three Madrigals" Emma Lou Diemer\nI.O Mistress Mine\, where are you roaming?\nII.Take\, O take those lips away\nIII.Sigh no more\, ladies\, sign no more!\n\nWebster Competition Winners\n\n"Chanson d’amour" Gabriel Fauré (1845-1924)\nMoira Dunn\, soprano\n\n"Villanelle" Eva Dell’Acqua (1856-1930)\nChelsea Crumbleholme\, soprano\n\n"It All Fades Away" from "Bridges of Madison County" Jason Robert Brown (b. 1970)\nSteven Mondloch\, baritone\n\nJenny Lind Vocal Ensemble\n\n"Lift Thine Eyes" from "Elijah" Felix Mendelssohn-Bartholdy\n\n"Tundra" Ola Gjeilo\nSophia Heiser &amp\; Chelsea Crumbleholme\, soloists\n\n"Even When He Is Silent" Kim André Arnesen\n\n"Amazing Grace" arr. Michael Hanawalt\nMuriel Melgoza\, soloist\n\n"Ain’t No Grave Can Hold My Body Down" arr. Paul Caldwell and Sean Ivory\nBex Fernandez\, sign language\n\n&nbsp\;\n
URL;VALUE=URI:https://www.augustana.edu/about-us/events/2017/winter-chorale-concert
SUMMARY: Winter Chorale Concert
DTSTART:20170204T220000Z
END:VEVENT
END:VCALENDAR
