BEGIN:VCALENDAR
VERSION:2.0
PRODID:-//hacksw/handcal//NONSGML v1.0//EN
CALSCALE:GREGORIAN
BEGIN:VEVENT
DTEND:20220324T000000Z
UID: 69e7d1349e649
DTSTAMP:20260421T143412Z
LOCATION:Carver P.E. Center
DESCRIPTION:The Vikings men's volleyball team&nbsp\;will host North Central College.\n\nVikings men's volleyball home games 2022\n\nMarch 25 vs. St. Ambrose University\n\nMarch 30 vs. North Park University\n
URL;VALUE=URI:https://www.augustana.edu/about-us/events/2021/mens-volleyball-vs-north-central
SUMMARY:Men's volleyball vs. North Central College
DTSTART:20220324T000000Z
END:VEVENT
END:VCALENDAR
