BEGIN:VCALENDAR
VERSION:2.0
PRODID:-//hacksw/handcal//NONSGML v1.0//EN
CALSCALE:GREGORIAN
BEGIN:VEVENT
DTEND:20220420T000000Z
UID: 69e7d185e4b57
DTSTAMP:20260421T143533Z
LOCATION:Swanson Stadium/Brunner Field
DESCRIPTION:The Vikings baseball team will host North Park University.\n\nVikings baseball home games 2022\n\nApril 23 vs. North Central College (doubleheader)\nApril 30 vs. Illinois Wesleyan University (doubleheader)\nMay 2 vs. Simpson College\nMay 3 vs. Knox College\n\n&nbsp\;\n
URL;VALUE=URI:https://www.augustana.edu/about-us/events/2021/baseball-vs-north-park
SUMMARY:Baseball vs. North Park University
DTSTART:20220420T000000Z
END:VEVENT
END:VCALENDAR
