BEGIN:VCALENDAR
VERSION:2.0
PRODID:-//hacksw/handcal//NONSGML v1.0//EN
CALSCALE:GREGORIAN
BEGIN:VEVENT
DTEND:20211105T150000Z
UID: 69e7cd50b1d20
DTSTAMP:20260421T141736Z
LOCATION:Thomas Tredway Library
DESCRIPTION:Dr. Tierney Brosius will discuss her insect-themed art and textiles\, now on display at the Tredway Library through Nov. 15.\n\nShe is an assistant professor of biology\, and the Dr. Larry P. Jones Endowed Fellow in the Natural Sciences.&nbsp\;Dr. Brosius is an accomplished illustrator who combines her passion for entomology with detailed drawings and clothing.&nbsp\;She talked about her art in an interview with WVIK in 2019.\n\nHer exhibit\, "Dr. Beetle\," and talk are part of the On Mark Analogue series of exhibits at the library\, and the Small Talk series\, hosted by Daisy Moran\,&nbsp\;assistant director\, Office of Student Inclusion and Diversity.\n
URL;VALUE=URI:https://www.augustana.edu/about-us/events/2021/conversation-dr-brosius
SUMMARY:A Conversation with Dr. Brosius
DTSTART:20211105T150000Z
END:VEVENT
END:VCALENDAR
