BEGIN:VCALENDAR
VERSION:2.0
PRODID:-//hacksw/handcal//NONSGML v1.0//EN
CALSCALE:GREGORIAN
BEGIN:VEVENT
DTEND:20211106T180000Z
UID: 69e7e2fa18c59
DTSTAMP:20260421T155002Z
LOCATION:Peter J. Lindberg\, M.D.\, Center for Health and Human Performance
DESCRIPTION:Augustana's men's and women's swimming and diving teams will compete with Illinois Wesleyan University.\n
URL;VALUE=URI:https://www.augustana.edu/about-us/events/2021/swimming-vs-iwu
SUMMARY:Swimming vs. Illinois Wesleyan
DTSTART:20211106T180000Z
END:VEVENT
END:VCALENDAR
