BEGIN:VCALENDAR
VERSION:2.0
PRODID:-//hacksw/handcal//NONSGML v1.0//EN
CALSCALE:GREGORIAN
BEGIN:VEVENT
DTEND:20211028T000000Z
UID: 69e7e6f79d938
DTSTAMP:20260421T160703Z
LOCATION:Thorson-Lucken Field
DESCRIPTION:Augustana men's soccer will take on the Carroll University Pioneers.\n\n• Livestream\n
URL;VALUE=URI:https://www.augustana.edu/about-us/events/2021/mens-soccer-carroll
SUMMARY:Men's soccer vs. Carroll University
DTSTART:20211028T000000Z
END:VEVENT
END:VCALENDAR
