BEGIN:VCALENDAR
VERSION:2.0
PRODID:-//hacksw/handcal//NONSGML v1.0//EN
CALSCALE:GREGORIAN
BEGIN:VEVENT
DTEND:20211112T030000Z
UID: 69e7423006300
DTSTAMP:20260421T042400Z
LOCATION:
DESCRIPTION:AugieEsports will play an Overwatch match against the University of California-Davis in an NECC regular season game.\n
URL;VALUE=URI:https://www.augustana.edu/about-us/events/2021/augieesports-vs-uc
SUMMARY:AugieEsports vs. University of California-Davis
DTSTART:20211112T030000Z
END:VEVENT
END:VCALENDAR
