BEGIN:VCALENDAR
VERSION:2.0
PRODID:-//hacksw/handcal//NONSGML v1.0//EN
CALSCALE:GREGORIAN
BEGIN:VEVENT
DTEND:20211105T013000Z
UID: 69e753973ae2b
DTSTAMP:20260421T053815Z
LOCATION:
DESCRIPTION:AugieEsports will play an Overwatch match against the University of British Columbia-Okanaganin an NECC regular season game.\n
URL;VALUE=URI:https://www.augustana.edu/about-us/events/2021/augieesports-vs-bc
SUMMARY:AugieEsports vs. University of British Columbia-Okanagan
DTSTART:20211105T013000Z
END:VEVENT
END:VCALENDAR
