BEGIN:VCALENDAR
VERSION:2.0
PRODID:-//hacksw/handcal//NONSGML v1.0//EN
CALSCALE:GREGORIAN
BEGIN:VEVENT
DTEND:20211029T020000Z
UID: 69e7413963222
DTSTAMP:20260421T041953Z
LOCATION:
DESCRIPTION:AugieEsports will play an Overwatch match against&nbsp\;Rogers State University in an NECC regular season game.\n&nbsp\;\n
URL;VALUE=URI:https://www.augustana.edu/about-us/events/2021/augieesports-vs-rogers
SUMMARY:AugieEsports vs. Rogers State
DTSTART:20211029T020000Z
END:VEVENT
END:VCALENDAR
