BEGIN:VCALENDAR
VERSION:2.0
PRODID:-//hacksw/handcal//NONSGML v1.0//EN
CALSCALE:GREGORIAN
BEGIN:VEVENT
DTEND:20220113T010000Z
UID: 69e7e65281fb0
DTSTAMP:20260421T160418Z
LOCATION:Carver P.E. Center
DESCRIPTION:The Vikings&nbsp\;women's basketball team&nbsp\;will host the Elmhurst University Bluejays.\n\nSpectators must provide proof of full vaccination (proof of boosters not required) or written evidence from a medical professional of a negative COVID-19 test taken within 48 hours of game. This applies to all spectators age 12 and older. Face coverings are required.\n
URL;VALUE=URI:https://www.augustana.edu/about-us/events/2021/womens-basketball-vs-elmhurst
SUMMARY:Women's basketball vs. Elmhurst
DTSTART:20220113T010000Z
END:VEVENT
END:VCALENDAR
