BEGIN:VCALENDAR
VERSION:2.0
PRODID:-//hacksw/handcal//NONSGML v1.0//EN
CALSCALE:GREGORIAN
BEGIN:VEVENT
DTEND:20211231T010000Z
UID: 69e7e59aa86c9
DTSTAMP:20260421T160114Z
LOCATION:Carver P.E. Center
DESCRIPTION:The Vikings&nbsp\;women's basketball team&nbsp\;will host the Monmouth College Fighting Scots.\n
URL;VALUE=URI:https://www.augustana.edu/about-us/events/2021/womens-basketball-vs-monmouth
SUMMARY:Women's basketball vs. Monmouth
DTSTART:20211231T010000Z
END:VEVENT
END:VCALENDAR
