BEGIN:VCALENDAR
VERSION:2.0
PRODID:-//hacksw/handcal//NONSGML v1.0//EN
CALSCALE:GREGORIAN
BEGIN:VEVENT
DTEND:20220111T010000Z
UID: 69e7e59b3ca7b
DTSTAMP:20260421T160115Z
LOCATION:Carver P.E. Center
DESCRIPTION:The Augustana Vikings&nbsp\;women's basketball team&nbsp\;will host North Park University.\n\nThe game originally was scheduled Dec. 19 but was canceled and declared a "no contest." However\,&nbsp\;updated CCIW policies relating to COVID-19 will allow the game to be played.\n\n→ CCIW reverses course\, basketball games will not be forfeited\n\nSpectators must provide proof of full vaccination (proof of boosters not required) or written evidence from a medical professional of a negative COVID-19 test taken within 48 hours of game. This applies to all spectators age 12 and older. Face coverings are required.\n
URL;VALUE=URI:https://www.augustana.edu/about-us/events/2021/womens-basketball-vs-north-park
SUMMARY:Women's basketball vs. North Park
DTSTART:20220111T010000Z
END:VEVENT
END:VCALENDAR
