BEGIN:VCALENDAR
VERSION:2.0
PRODID:-//hacksw/handcal//NONSGML v1.0//EN
CALSCALE:GREGORIAN
BEGIN:VEVENT
DTEND:20211211T230000Z
UID: 69e7e4bbd7ce8
DTSTAMP:20260421T155731Z
LOCATION:Carver P.E. Center
DESCRIPTION:The Vikings&nbsp\;women's basketball team&nbsp\;will host the Carthage College Firebirds.\n
URL;VALUE=URI:https://www.augustana.edu/about-us/events/2021/womens-basketball-vs-carthage
SUMMARY:Women's basketball vs. Carthage
DTSTART:20211211T230000Z
END:VEVENT
END:VCALENDAR
