BEGIN:VCALENDAR
VERSION:2.0
PRODID:-//hacksw/handcal//NONSGML v1.0//EN
CALSCALE:GREGORIAN
BEGIN:VEVENT
DTEND:20170122T200000Z
UID: 69e4d94a1033d
DTSTAMP:20260419T083154Z
LOCATION:Grace Lutheran Church
DESCRIPTION:Augustana's Jenny Lind Vocal Ensemble will perform "Anchored &amp\; Unbound:&nbsp\;Songs of Faith\, Hope &amp\; Freedom"&nbsp\;in Springfield\, Ill.\n\nThe group is a select women's ensemble for singers who wish to develop advanced choral skills. The group is conducted by Michael Zemek\, with accompanist&nbsp\;Gail Baldwin.\n\n(See program and more information)\n\nMore concert locations and dates:\n\nJan. 29 at 2 p.m. at First Lutheran Church\,&nbsp\;114 East Main St.\, Geneseo\, Ill.\n\nFeb. 4 at 4 p.m. in Centennial Hall on campus.\n
URL;VALUE=URI:https://www.augustana.edu/about-us/events/2017/jenny-lind-vocal-ensemble-anchored-unbound-songs-faith-hope-freedom
SUMMARY:Jenny Lind Vocal Ensemble: "Anchored & Unbound: Songs of Faith\, Hope & Freedom"
DTSTART:20170122T200000Z
END:VEVENT
END:VCALENDAR
