BEGIN:VCALENDAR
VERSION:2.0
PRODID:-//hacksw/handcal//NONSGML v1.0//EN
CALSCALE:GREGORIAN
BEGIN:VEVENT
DTEND:20211110T010000Z
UID: 69e7e6fe3bf79
DTSTAMP:20260421T160710Z
LOCATION:Carver P.E. Center
DESCRIPTION:The Vikings women's basketball team will host the Knox College Prairie Fire in the season opener for both teams.\n
URL;VALUE=URI:https://www.augustana.edu/about-us/events/2021/womens-basketball-vs-knox
SUMMARY:Women's basketball vs. Knox
DTSTART:20211110T010000Z
END:VEVENT
END:VCALENDAR
