BEGIN:VCALENDAR
VERSION:2.0
PRODID:-//hacksw/handcal//NONSGML v1.0//EN
CALSCALE:GREGORIAN
BEGIN:VEVENT
DTEND:20211112T013000Z
UID: 69e7df6becd0c
DTSTAMP:20260421T153451Z
LOCATION:Brunner Theatre Center
DESCRIPTION:Augustana College will present one of Shakespeare’s most powerful and enduring works\, "Macbeth\," Nov. 11-14.\n\nAfter a general receives a prophecy that one day he will become king of Scotland\, his subsequent ambition — and his wife's goading — leads to murder\, guilt and madness.\n\nPerformances are at 7:30 p.m. Thursday\, Friday and Saturday\, and at 1:30 p.m. Sunday.\n\n→ Read more about the play\n
URL;VALUE=URI:https://www.augustana.edu/about-us/events/2021/macbeth
SUMMARY:'Macbeth'
DTSTART:20211112T013000Z
END:VEVENT
END:VCALENDAR
