BEGIN:VCALENDAR
VERSION:2.0
PRODID:-//hacksw/handcal//NONSGML v1.0//EN
CALSCALE:GREGORIAN
BEGIN:VEVENT
DTEND:20221009T000000Z
UID: 69e7bb2edd37e
DTSTAMP:20260421T130014Z
LOCATION:Centennial Hall
DESCRIPTION:The Augustana Symphonic Band will perform\, directed by Dr. James Lambrecht.\n
URL;VALUE=URI:https://www.augustana.edu/about-us/events/2022/augustana-symphonic-band
SUMMARY:Augustana Symphonic Band concert
DTSTART:20221009T000000Z
END:VEVENT
END:VCALENDAR
