BEGIN:VCALENDAR
VERSION:2.0
PRODID:-//hacksw/handcal//NONSGML v1.0//EN
CALSCALE:GREGORIAN
BEGIN:VEVENT
DTEND:20211023T180000Z
UID: 69e7f6d4896da
DTSTAMP:20260421T171444Z
LOCATION:Peter J. Lindberg\, M.D.\, Center for Health and Human Performance
DESCRIPTION:Augustana's men's and women's swimming and diving teams will compete with Monmouth College.&nbsp\;\n
URL;VALUE=URI:https://www.augustana.edu/about-us/events/2021/swimming-vs-monmouth
SUMMARY:Swimming vs. Monmouth
DTSTART:20211023T180000Z
END:VEVENT
END:VCALENDAR
