BEGIN:VCALENDAR
VERSION:2.0
PRODID:-//hacksw/handcal//NONSGML v1.0//EN
CALSCALE:GREGORIAN
BEGIN:VEVENT
DTEND:20211030T190000Z
UID: 69e7df9983826
DTSTAMP:20260421T153537Z
LOCATION:Centennial Hall
DESCRIPTION:The Augustana Concert Chorale and the Jenny Lind Vocal Ensemble will perform in a joint concert.\n\nConcert Chorale is a mixed ensemble that performs a variety of literature from all style periods.&nbsp\;The Jenny Lind Vocal Ensemble is a select treble ensemble for those wishing to develop advanced choral skills in music composed for sopranos and altos.&nbsp\;\n\n→ Learn more about these selections\n\nProgram\n\nConcert Chorale\n\n"Praise the Lord"&nbsp\; from the Handel oratorio “Judas Maccabeus”\n\n"How to Sing Like a Planet" by Elizabeth Alexander\n\n"In Meeting We Are Blessed by Troy D. Robertson"\n\nJenny Lind\n\n"A New Day" by Kinley Lange\n\n"Songs of Singing and for the Singer"&nbsp\;by Veljo Tormis\n\n&nbsp\;"How can I keep from singing?" arranged by Sarah Quartel\n\n&nbsp\;"O Love" by&nbsp\;Elaine Hagenberg&nbsp\;\n\n"Please Stay" by&nbsp\;Jake Runestad\n
URL;VALUE=URI:https://www.augustana.edu/about-us/events/2021/augustana-concert-chorale-and-jenny-lind-vocal-ensemble-concert
SUMMARY:Augustana Concert Chorale and Jenny Lind Vocal Ensemble concert
DTSTART:20211030T190000Z
END:VEVENT
END:VCALENDAR
