BEGIN:VCALENDAR
VERSION:2.0
PRODID:-//hacksw/handcal//NONSGML v1.0//EN
CALSCALE:GREGORIAN
BEGIN:VEVENT
DTEND:20211027T003000Z
UID: 69e7df6b62529
DTSTAMP:20260421T153451Z
LOCATION:Denkmann Memorial Building
DESCRIPTION:Susan Schwaegler\, bass clarinet\; and Charles Schmidt\, piano\, will perform.\n\nProgram\n\nBeatrix Becker\, "Character Pieces"\n\nDaniel Dorff\, "In a Deep Funk"\n\nMichael Kibbe\, "Autumn Sonata"\n\nJorge Montilla\, " Introduction and Joropo"\n\nSchwaegler is an instructor of music and Schmidt is an assistant professor of music.\n
URL;VALUE=URI:https://www.augustana.edu/about-us/events/2021/faculty-recital-susan-schwaegler-bass-clarinet-charles-schmidt-piano
SUMMARY:Faculty recital: Susan Schwaegler\, bass clarinet\; Charles Schmidt\, piano
DTSTART:20211027T003000Z
END:VEVENT
END:VCALENDAR
