BEGIN:VCALENDAR
VERSION:2.0
PRODID:-//hacksw/handcal//NONSGML v1.0//EN
CALSCALE:GREGORIAN
BEGIN:VEVENT
DTEND:20211025T003000Z
UID: 69e7e05927704
DTSTAMP:20260421T153849Z
LOCATION:Brunner Theatre Center
DESCRIPTION:An off-beat dramedy with a kinetic pop-rock score\, the musical "Island Song" takes us through a year in the lives of five 20-and-30-somethings sharing the city\, and a chain of surprising\, poignant and pivotal connections.\n\nPerformances are at 7:30 p.m. Thursday-Saturday\, Oct. 21-24.\n\nWords by Sam Carner\, music by Derek Gregor. Story by Sam Carner\, Derek Gregor\, and Marlo Hunter\, and directed by Brycen Witt '22.\n
URL;VALUE=URI:https://www.augustana.edu/about-us/events/2021/island-song4
SUMMARY:Island Song
DTSTART:20211025T003000Z
END:VEVENT
END:VCALENDAR
