BEGIN:VCALENDAR
VERSION:2.0
PRODID:-//hacksw/handcal//NONSGML v1.0//EN
CALSCALE:GREGORIAN
BEGIN:VEVENT
DTEND:20211002T180000Z
UID: 69e7e08d30dbe
DTSTAMP:20260421T153941Z
LOCATION:Thorson-Lucken Field
DESCRIPTION:The Vikings will take on the Millikin University Big Blue.\n\nLivestream\n\nLive stats\n\n&nbsp\;\n
URL;VALUE=URI:https://www.augustana.edu/about-us/events/2021/womens-soccer-vs-millikin
SUMMARY:Women's soccer vs. Millikin
DTSTART:20211002T180000Z
END:VEVENT
END:VCALENDAR
