BEGIN:VCALENDAR
VERSION:2.0
PRODID:-//hacksw/handcal//NONSGML v1.0//EN
CALSCALE:GREGORIAN
BEGIN:VEVENT
DTEND:20211013T220000Z
UID: 69e7e08d2d7b8
DTSTAMP:20260421T153941Z
LOCATION:Brunner Theatre Center
DESCRIPTION:The 2021 River Reading will welcome three writers with Augustana College ties: Brett Biebel\, Kelly Daniels and Beth Roberts. All three published books this year. (Learn more about them)\n\nThey will sign and sell books after the reading.\n\nThe River Readings at Augustana brings literary artists to campus each year from around the country. These writers of poetry\, fiction\, and literary nonfiction meet with students in class or other venues to discuss their work and careers\, and present a free reading open to the public.\n
URL;VALUE=URI:https://www.augustana.edu/about-us/events/2021/river-readings
SUMMARY:River Readings
DTSTART:20211013T220000Z
END:VEVENT
END:VCALENDAR
