BEGIN:VCALENDAR
VERSION:2.0
PRODID:-//hacksw/handcal//NONSGML v1.0//EN
CALSCALE:GREGORIAN
BEGIN:VEVENT
DTEND:20211113T160000Z
UID: 69e7e0593bc25
DTSTAMP:20260421T153849Z
LOCATION:Big River Bowl
DESCRIPTION:The Augustana women's bowling team will compete in the annual Leatherneck Classic tournament today and Sunday.\n&nbsp\;\n
URL;VALUE=URI:https://www.augustana.edu/about-us/events/2021/womens-bowling-leatherneck-classic
SUMMARY:Women's bowling at Leatherneck Classic
DTSTART:20211113T160000Z
END:VEVENT
END:VCALENDAR
