BEGIN:VCALENDAR
VERSION:2.0
PRODID:-//hacksw/handcal//NONSGML v1.0//EN
CALSCALE:GREGORIAN
BEGIN:VEVENT
DTEND:20221216T000000Z
UID: 69e7e08d9b5ad
DTSTAMP:20260421T153941Z
LOCATION:Carver P.E. Center
DESCRIPTION:The Augustana's women's and men's wrestling teams will face the North Central College Cardinals.\n\nThe&nbsp\;&nbsp\;women's wrestling team will play at 6 p.m. The dual versus North Central will be the first home women's wrestling meet in school history.\n\nThe men's team will play at 7 p.m.\n
URL;VALUE=URI:https://www.augustana.edu/about-us/events/2022/wrestling-north-central
SUMMARY:Wrestling vs. North Central
DTSTART:20221216T000000Z
END:VEVENT
END:VCALENDAR
