BEGIN:VCALENDAR
VERSION:2.0
PRODID:-//hacksw/handcal//NONSGML v1.0//EN
CALSCALE:GREGORIAN
BEGIN:VEVENT
DTEND:20220303T223000Z
UID: 69e7e03d8b27b
DTSTAMP:20260421T153821Z
LOCATION:Hanson Hall of Science
DESCRIPTION:Dr. Rachel Horner Brackett\, visiting assistant professor of sociology and anthropology\, will present&nbsp\;will present a talk on the Etruscans\, drawing on her experience studying Etruscan archaeology through a National Endowment for the Humanities fellowship in the summer of 2015.\n\nDescription: Who were the Etruscans? Between approximately 800 BCE - 510 BCE\, a distinctly Etruscan culture dominated what is now central Italy. Renowned for their skills in metalsmithing\, impasto and bucchero pottery\, and religious divination\, the Etruscans grew a rich trade network spanning the Mediterranean. Their mythology\, commerce\, and government directly influenced the rise of the Romans — and thus the rise of Western civilization. However\, few of their written records remain\, and the Etruscans typically fall into the footnotes of history.\n&nbsp\;\nIn this lecture\, Dr. Brackett will present archeological evidence from Etruscan necropolises — literal cities of the dead built to mirror cities for the living. She also will connect the legacy of ancient Etruscans to her ethnographic work in modern Tuscany.&nbsp\;\n
URL;VALUE=URI:https://www.augustana.edu/about-us/events/2021/etruscans-crossroads-lost-cities-tuscany
SUMMARY:Etruscans at the Crossroads: The Lost Cities of Tuscany
DTSTART:20220303T223000Z
END:VEVENT
END:VCALENDAR
