BEGIN:VCALENDAR
VERSION:2.0
PRODID:-//hacksw/handcal//NONSGML v1.0//EN
CALSCALE:GREGORIAN
BEGIN:VEVENT
DTEND:20210930T000000Z
UID: 69e7dffce47f4
DTSTAMP:20260421T153716Z
LOCATION:Thorson-Lucken Field
DESCRIPTION:The Vikings will compete with the Thunder of Wheaton College.\n\nLivestream\n\nLive stats\n\n&nbsp\;\n
URL;VALUE=URI:https://www.augustana.edu/about-us/events/2021/mens-soccer-vs-wheaton
SUMMARY:Men's soccer vs. Wheaton
DTSTART:20210930T000000Z
END:VEVENT
END:VCALENDAR
