BEGIN:VCALENDAR
VERSION:2.0
PRODID:-//hacksw/handcal//NONSGML v1.0//EN
CALSCALE:GREGORIAN
BEGIN:VEVENT
DTEND:20210911T140000Z
UID: 69e7e0435e7fb
DTSTAMP:20260421T153827Z
LOCATION:Tennis Courts
DESCRIPTION:The women's tennis team will play Grinnell College.\n
URL;VALUE=URI:https://www.augustana.edu/about-us/events/2021/womens-tennis-vs-grinnell
SUMMARY:Women's tennis vs. Grinnell
DTSTART:20210911T140000Z
END:VEVENT
END:VCALENDAR
