BEGIN:VCALENDAR
VERSION:2.0
PRODID:-//hacksw/handcal//NONSGML v1.0//EN
CALSCALE:GREGORIAN
BEGIN:VEVENT
DTEND:20210911T140000Z
UID: 69e7e31419d5c
DTSTAMP:20260421T155028Z
LOCATION:Tennis Courts
DESCRIPTION:The women's tennis team will take on Illinois Wesleyan.\n\nAt 3 p.m. they will play Grinnell.\n
URL;VALUE=URI:https://www.augustana.edu/about-us/events/2021/womens-tennis-vs-Illinois-Wesleyan
SUMMARY:Women's tennis vs. Illinois Wesleyan
DTSTART:20210911T140000Z
END:VEVENT
END:VCALENDAR
