BEGIN:VCALENDAR
VERSION:2.0
PRODID:-//hacksw/handcal//NONSGML v1.0//EN
CALSCALE:GREGORIAN
BEGIN:VEVENT
DTEND:20210910T210000Z
UID: 69e7df6b77a68
DTSTAMP:20260421T153451Z
LOCATION:Tennis Courts
DESCRIPTION:The women's tennis team will host North Park for their home and CCIW opener.\n\nThe Vikings participated in their first tennis competition of the 2021 season\, the UW-Whitewater Invitational\, Sept. 4\, placing&nbsp\;fifth out of eight teams.\n
URL;VALUE=URI:https://www.augustana.edu/about-us/events/2021/womens-tennis-vs-north-park
SUMMARY:Women's tennis home opener vs. North Park
DTSTART:20210910T210000Z
END:VEVENT
END:VCALENDAR
