BEGIN:VCALENDAR
VERSION:2.0
PRODID:-//hacksw/handcal//NONSGML v1.0//EN
CALSCALE:GREGORIAN
BEGIN:VEVENT
DTEND:20210914T000000Z
UID: 69e7f695193e4
DTSTAMP:20260421T171341Z
LOCATION:Thorson-Lucken Field
DESCRIPTION:The Augustana women's soccer team will host&nbsp\;the Knox Prairie Fire for a non-conference match.\n\nLive video stream\n\nLive stats\n
URL;VALUE=URI:https://www.augustana.edu/about-us/events/2021/womens-soccer-vs-knox
SUMMARY:Women's soccer vs. Knox
DTSTART:20210914T000000Z
END:VEVENT
END:VCALENDAR
