BEGIN:VCALENDAR
VERSION:2.0
PRODID:-//hacksw/handcal//NONSGML v1.0//EN
CALSCALE:GREGORIAN
BEGIN:VEVENT
DTEND:20230901T180000Z
UID: 69e7f745e1907
DTSTAMP:20260421T171637Z
LOCATION:Quad
DESCRIPTION:Opening Convocation marks&nbsp\;the official start of the academic year. First-year students and families will join President Andrea Talentino as she addresses the incoming students and welcomes them to the college.\n
URL;VALUE=URI:https://www.augustana.edu/about-us/events/2023/opening-convocation
SUMMARY:Opening Convocation
DTSTART:20230901T180000Z
END:VEVENT
END:VCALENDAR
