BEGIN:VCALENDAR
VERSION:2.0
PRODID:-//hacksw/handcal//NONSGML v1.0//EN
CALSCALE:GREGORIAN
BEGIN:VEVENT
DTEND:20211010T183000Z
UID: 69e7f6d48b30e
DTSTAMP:20260421T171444Z
LOCATION:Brunner Theatre Center
DESCRIPTION:Augustana College will present the children's play "Miss Nelson is Missing! The Musical" at 1:30 p.m. Oct. 9-10. The show is&nbsp\;adapted from the best-selling children's book by Harry Allard and James Marshall.\n\nThe uncontrollable children of Room 207 are in for a surprise when Miss Nelson goes missing and is replaced by Viola Swamp\, a no-nonsense substitute who assigns piles of homework! The students learn lessons of appreciation and respect\, but will they ever get their beloved Miss Nelson back?\n\nEver since the publication of "Miss Nelson Is Missing!" 40 years ago\,&nbsp\;children have been reading about the legend of Miss Swamp\, her&nbsp\;alter ego in&nbsp\;disguise.\n\nBook\, music and lyrics by Joan Cushing\, and directed by Jackie McCall\,&nbsp\;Brunner Theatre outreach coordinator.\n
URL;VALUE=URI:https://www.augustana.edu/about-us/events/2021/miss-nelson-missing-musical2
SUMMARY:Miss Nelson is Missing! The Musical
DTSTART:20211010T183000Z
END:VEVENT
END:VCALENDAR
