BEGIN:VCALENDAR
VERSION:2.0
PRODID:-//hacksw/handcal//NONSGML v1.0//EN
CALSCALE:GREGORIAN
BEGIN:VEVENT
DTEND:20221208T013000Z
UID: 69e759ae92f61
DTSTAMP:20260421T060414Z
LOCATION:Augustana Lutheran Church
DESCRIPTION:The Joy of Christmas Past and Present&nbsp\;is a&nbsp\;holiday tradition&nbsp\;bringing together Augustana students and Augustana Lutheran Church in Andover\, Ill.\n\n\nStudents and faculty&nbsp\;join the community for this service of worship and music that starts at Augustana Lutheran Church in Andover. The Christmas story will be read in several different languages.\n\nSpecial music will be provided by students and faculty\, and a message will be given by&nbsp\;the featured speaker. The service concludes with a procession to the Jenny Lind Chapel\, completely lit by candlelight\, for communion and caroling.\n\nAfter the service\, refreshments will be served in Luther Hall at Augustana Church.\n\nThe service will be livestreamed.\n
URL;VALUE=URI:https://www.augustana.edu/about-us/events/2022/joy-christmas-past-and-present
SUMMARY:Joy of Christmas Past and Present
DTSTART:20221208T013000Z
END:VEVENT
END:VCALENDAR
