BEGIN:VCALENDAR
VERSION:2.0
PRODID:-//hacksw/handcal//NONSGML v1.0//EN
CALSCALE:GREGORIAN
BEGIN:VEVENT
DTEND:20211030T180000Z
UID: 69e7f6a054309
DTSTAMP:20260421T171352Z
LOCATION:Carver P.E. Center
DESCRIPTION:The Augustana women's volleyball team will host the annual&nbsp\;Pumpkin Bash tournament. Today the Vikings are scheduled at 1 p.m. vs. Edgewood College of Madison\, Wis.\n
URL;VALUE=URI:https://www.augustana.edu/about-us/events/2021/womens-volleyball-pumpkin-bash2
SUMMARY:Women's volleyball: Pumpkin Bash
DTSTART:20211030T180000Z
END:VEVENT
END:VCALENDAR
