BEGIN:VCALENDAR
VERSION:2.0
PRODID:-//hacksw/handcal//NONSGML v1.0//EN
CALSCALE:GREGORIAN
BEGIN:VEVENT
DTEND:20211029T210000Z
UID: 69e7f6e827461
DTSTAMP:20260421T171504Z
LOCATION:Carver P.E. Center
DESCRIPTION:The Augustana women's volleyball team will host the annual&nbsp\;Pumpkin Bash tournament. Today the Vikings will play at&nbsp\;4 p.m. vs. Benedictine University of Lisle\, Ill.\,&nbsp\;&nbsp\;and 8 p.m. vs. Simpson College of Indianola\, Iowa.\n\nOn Saturday\, the Vikings are scheduled at 1 p.m. vs. Edgewood College of Madison\, Wis.\n
URL;VALUE=URI:https://www.augustana.edu/about-us/events/2021/womens-volleyball-pumpkin-bash
SUMMARY:Women's volleyball: Pumpkin Bash
DTSTART:20211029T210000Z
END:VEVENT
END:VCALENDAR
