BEGIN:VCALENDAR
VERSION:2.0
PRODID:-//hacksw/handcal//NONSGML v1.0//EN
CALSCALE:GREGORIAN
BEGIN:VEVENT
DTEND:20211007T000000Z
UID: 69e7f7114d5c3
DTSTAMP:20260421T171545Z
LOCATION:Carver P.E. Center
DESCRIPTION:The Augustana women's volleyball team will&nbsp\;will host the Vikings of North Park University of Chicago.\n\nHome schedule\n\nOct. 8: 7 p.m. vs. Millikin\n\nOct. 15: 7 p.m. vs. Dubuque\n\nOct. 20: 7 p.m. vs. Carroll\n\nPumpkin Bash\n\nOct. 29: 4 p.m. vs. Benedictine and 8 p.m. vs. Simpson\n\nOct. 30: 1 p.m. vs. Edgewood\n
URL;VALUE=URI:https://www.augustana.edu/about-us/events/2021/womens-volleyball-vs-North-Park%C2%A0%C2%A0%20%C2%A0%C2%A0%C2%A0
SUMMARY:Women's volleyball vs. North Park       
DTSTART:20211007T000000Z
END:VEVENT
END:VCALENDAR
