BEGIN:VCALENDAR
VERSION:2.0
PRODID:-//hacksw/handcal//NONSGML v1.0//EN
CALSCALE:GREGORIAN
BEGIN:VEVENT
DTEND:20210917T210000Z
UID: 69e4d94737523
DTSTAMP:20260419T083151Z
LOCATION:Carver P.E. Center
DESCRIPTION:The Augustana women's volleyball team will host the&nbsp\;annual Viking Classic tournament of six teams Sept. 17-18.\n\nToday\, the Vikings will play at 4 p.m. vs. UW-Platteville and at 8 p.m. vs. Nebraska Wesleyan. On Saturday\, they will play at 10 a.m. vs. Knox and 2 p.m. vs. Coe.\n
URL;VALUE=URI:https://www.augustana.edu/about-us/events/2021/womens-volleyball-viking-classic
SUMMARY:Women's volleyball: Viking Classic
DTSTART:20210917T210000Z
END:VEVENT
END:VCALENDAR
