BEGIN:VCALENDAR
VERSION:2.0
PRODID:-//hacksw/handcal//NONSGML v1.0//EN
CALSCALE:GREGORIAN
BEGIN:VEVENT
DTEND:20210901T210000Z
UID: 69e7f763b4b30
DTSTAMP:20260421T171707Z
LOCATION:Carver P.E. Center
DESCRIPTION:The Augustana women's volleyball team will open the season with a triangular contest at home vs. Central College at 4 p.m. and Cornell College at 8 p.m.&nbsp\;\n\nAugustana will&nbsp\;return home&nbsp\;Sept.&nbsp\;17&nbsp\;for the Viking Classic tournament of six teams\, including Augustana across two days.\n\nThe team closes out the regular season at home with the Pumpkin Bash Oct. 29-30.\n\nThe Vikings are&nbsp\;coming off a 4-8 record in a shortened 2020&nbsp\;season in the spring due to the COVID-19 pandemic.\n
URL;VALUE=URI:https://www.augustana.edu/about-us/events/2021/womens-volleyball-triangular-vs-central-and-cornell
SUMMARY:Women's volleyball triangular vs. Central and Cornell
DTSTART:20210901T210000Z
END:VEVENT
END:VCALENDAR
