BEGIN:VCALENDAR
VERSION:2.0
PRODID:-//hacksw/handcal//NONSGML v1.0//EN
CALSCALE:GREGORIAN
BEGIN:VEVENT
DTEND:20220203T010000Z
UID: 69e7f6f306863
DTSTAMP:20260421T171515Z
LOCATION:Carver P.E. Center
DESCRIPTION:The Vikings will host the Thunder of Wheaton (Ill.) College &nbsp\;\n\nHome games 2021-22\n\nAll games begin at 7 p.m. unless otherwise noted.\n\nFeb. 5: North Park University of Chicago\n\nFeb. 19: Illinois Wesleyan University of Bloomington\, Ill.\n
URL;VALUE=URI:https://www.augustana.edu/about-us/events/2021/mens-basketball-vs-wheaton
SUMMARY:Men's basketball vs. Wheaton
DTSTART:20220203T010000Z
END:VEVENT
END:VCALENDAR
