BEGIN:VCALENDAR
VERSION:2.0
PRODID:-//hacksw/handcal//NONSGML v1.0//EN
CALSCALE:GREGORIAN
BEGIN:VEVENT
DTEND:20220130T010000Z
UID: 69e7f6be3a680
DTSTAMP:20260421T171422Z
LOCATION:Carver P.E. Center
DESCRIPTION:The Vikings will host Carroll University Pioneers of Waukesha\, Wis. &nbsp\;\n\nHome games 2021-22\n\nAll games begin at 7 p.m. unless otherwise noted.\n\nFeb. 2: Wheaton (Ill.) College\n\nFeb. 5: North Park University of Chicago\n\nFeb. 19: Illinois Wesleyan University of Bloomington\, Ill.\n
URL;VALUE=URI:https://www.augustana.edu/about-us/events/2021/mens-basketball-vs-carroll
SUMMARY:Men's basketball vs. Carroll University
DTSTART:20220130T010000Z
END:VEVENT
END:VCALENDAR
