BEGIN:VCALENDAR
VERSION:2.0
PRODID:-//hacksw/handcal//NONSGML v1.0//EN
CALSCALE:GREGORIAN
BEGIN:VEVENT
DTEND:20220120T010000Z
UID: 69e7f6d577fdf
DTSTAMP:20260421T171445Z
LOCATION:Carver P.E. Center
DESCRIPTION:The Vikings will host the&nbsp\;Bluejays of Elmhurst (Ill.) University.\n\nSpectators must provide proof of full vaccination (proof of boosters not required) or written evidence from a medical professional of a negative COVID-19 test taken within 48 hours of game. This applies to all spectators age 12 and older. Face coverings are required.\n\n→ Watch live\n\n→ Real-time stats\n\nRemaining home games 2021-22\n\nAll games begin at 7 p.m.\n\nJan. 22: Millikin University of Decatur\, Ill.\n\nJan. 29: Carroll University of Waukesha\, Wis.\n\nFeb. 2: Wheaton (Ill.) College\n\nFeb. 5: North Park University of Chicago\n\nFeb. 19: Illinois Wesleyan University of Bloomington\, Ill.\n
URL;VALUE=URI:https://www.augustana.edu/about-us/events/2021/mens-basketball-vs-elmhurst-jan
SUMMARY:Men's basketball vs. Elmhurst University
DTSTART:20220120T010000Z
END:VEVENT
END:VCALENDAR
