BEGIN:VCALENDAR
VERSION:2.0
PRODID:-//hacksw/handcal//NONSGML v1.0//EN
CALSCALE:GREGORIAN
BEGIN:VEVENT
DTEND:20211219T230000Z
UID: 69e7f6955d734
DTSTAMP:20260421T171341Z
LOCATION:Carver P.E. Center
DESCRIPTION:The Augustana College Vikings will host the Vikings of North Park University of Chicago &nbsp\; &nbsp\; &nbsp\;\n\nHome games 2021-22\n\nAll games begin at 7 p.m. unless otherwise noted.\n\nJan. 5: North Central College of Naperville\, Ill.\n\nJan. 19: Elmhurst (Ill.) University\n\nJan. 22: Millikin University of Decatur\, Ill.\n\nJan. 29: Carroll University of Waukesha\, Wis.\n\nFeb. 2: Wheaton (Ill.) College\n\nFeb. 5: North Park University of Chicago\n\nFeb. 19: Illinois Wesleyan University of Bloomington\, Ill.\n
URL;VALUE=URI:https://www.augustana.edu/about-us/events/2021/mens-basketball-vs-northpark
SUMMARY:Men's basketball vs. North Park
DTSTART:20211219T230000Z
END:VEVENT
END:VCALENDAR
