BEGIN:VCALENDAR
VERSION:2.0
PRODID:-//hacksw/handcal//NONSGML v1.0//EN
CALSCALE:GREGORIAN
BEGIN:VEVENT
DTEND:20211011T133000Z
UID: 69e7f69f56688
DTSTAMP:20260421T171351Z
LOCATION:Carver P.E. Center
DESCRIPTION:Viking Visits are for prospective students and their families&nbsp\;learn more about what Augustana College has to offer.\n\nActivities include academic sessions\, tours and lunch. There also will be sessions about admissions\, financial aid and scholarships.\n\nRegistration is required and will open in late summer. Or\, see the Visit page for signup information when available.\n
URL;VALUE=URI:https://www.augustana.edu/about-us/events/2021/viking-visit
SUMMARY:Viking Visit
DTSTART:20211011T133000Z
END:VEVENT
END:VCALENDAR
